BEGIN:VCALENDAR
VERSION:2.0
PRODID:spatie/icalendar-generator
NAME:Düsseldorfer Jonges
X-WR-CALNAME:Düsseldorfer Jonges
BEGIN:VTIMEZONE
TZID:Europe/Berlin
BEGIN:STANDARD
DTSTART:20171029T030000
TZOFFSETFROM:+0200
TZOFFSETTO:+0100
END:STANDARD
BEGIN:DAYLIGHT
DTSTART:20180325T020000
TZOFFSETFROM:+0100
TZOFFSETTO:+0200
END:DAYLIGHT
END:VTIMEZONE
BEGIN:VTIMEZONE
TZID:UTC
BEGIN:STANDARD
DTSTART:20220220T145212
TZOFFSETFROM:+0000
TZOFFSETTO:+0000
END:STANDARD
END:VTIMEZONE
BEGIN:VEVENT
UID:1038
DTSTAMP:20221117T145212Z
DTSTART;TZID=Europe/Berlin:20180313T200000
DTEND;TZID=Europe/Berlin:20180313T210000
SUMMARY:Taten des Lichts – Mack und Goethe / Zwei unbekannte Brüder von 
 Jan Wellem
DESCRIPTION:Taten des Lichts – Mack und Goethe\nReferent: Frau Barbara St
 eingießer\, Kunsthistorikerin und freie Kuratorin der Ausstellung\nZwei u
 nbekannte Brüder von Jan Wellem\nReferent: Pfarrer Michael Dederichs\, Pf
 arrer an St. Antonius und Benediktus
END:VEVENT
END:VCALENDAR