BEGIN:VCALENDAR
VERSION:2.0
PRODID:spatie/icalendar-generator
NAME:Düsseldorfer Jonges
X-WR-CALNAME:Düsseldorfer Jonges
BEGIN:VTIMEZONE
TZID:Europe/Berlin
BEGIN:STANDARD
DTSTART:20171029T030000
TZOFFSETFROM:+0200
TZOFFSETTO:+0100
END:STANDARD
BEGIN:DAYLIGHT
DTSTART:20180325T020000
TZOFFSETFROM:+0100
TZOFFSETTO:+0200
END:DAYLIGHT
END:VTIMEZONE
BEGIN:VTIMEZONE
TZID:UTC
BEGIN:STANDARD
DTSTART:20220220T145212
TZOFFSETFROM:+0000
TZOFFSETTO:+0000
END:STANDARD
END:VTIMEZONE
BEGIN:VEVENT
UID:1040
DTSTAMP:20221117T145212Z
DTSTART;TZID=Europe/Berlin:20180327T200000
DTEND;TZID=Europe/Berlin:20180327T210000
SUMMARY:Palliativmedizin – (k)ein Tabuthema / 200 Jahre Musikverein
DESCRIPTION:Palliativmedizin – (k)ein Tabuthema\nReferent: Herr Dr. med. 
 Martin Neukirchen\, Facharzt für Anästhesiologie und Pallativmedizin\, O
 berarzt der Klinik für Anästhesiologie\, Interdisziplinäres Zentrum fü
 r Palliativmedizin der Heinrich-Heine-Universität Düsseldorf\n200 Jahre 
 Musikverein\nReferent: Herr Georg Lauer\, Städtischer Musikverein
END:VEVENT
END:VCALENDAR