BEGIN:VCALENDAR
VERSION:2.0
PRODID:spatie/icalendar-generator
NAME:Düsseldorfer Jonges
X-WR-CALNAME:Düsseldorfer Jonges
BEGIN:VTIMEZONE
TZID:Europe/Berlin
BEGIN:STANDARD
DTSTART:20171029T030000
TZOFFSETFROM:+0200
TZOFFSETTO:+0100
END:STANDARD
BEGIN:DAYLIGHT
DTSTART:20180325T020000
TZOFFSETFROM:+0100
TZOFFSETTO:+0200
END:DAYLIGHT
BEGIN:STANDARD
DTSTART:20181028T030000
TZOFFSETFROM:+0200
TZOFFSETTO:+0100
END:STANDARD
END:VTIMEZONE
BEGIN:VTIMEZONE
TZID:UTC
BEGIN:STANDARD
DTSTART:20220220T145212
TZOFFSETFROM:+0000
TZOFFSETTO:+0000
END:STANDARD
END:VTIMEZONE
BEGIN:VEVENT
UID:1049
DTSTAMP:20221117T145212Z
DTSTART;TZID=Europe/Berlin:20180529T200000
DTEND;TZID=Europe/Berlin:20180529T210000
SUMMARY:Impulsvortrag: Ja\, wo schauen sie denn?  Hauptvortrag: Humor in de
 r Werbung. Wirkung oder wirkungslos?
DESCRIPTION:Impulsvortrag: Ja\, wo schauen sie denn? – Journalismus zwisc
 hen Lügenpresse\, Algorithmen und neuen Chancen\nReferent: Michael Oelman
 n\, Oelmann Media\nJa\, wo schauen sie denn?\nJournalismus zwischen Lügen
 presse\, Algorithmen und neuen Chancen \nReferent: Sebastian Sahm\, Sahm W
 erbeagentur
END:VEVENT
END:VCALENDAR