BEGIN:VCALENDAR
VERSION:2.0
PRODID:spatie/icalendar-generator
NAME:Düsseldorfer Jonges
X-WR-CALNAME:Düsseldorfer Jonges
BEGIN:VTIMEZONE
TZID:Europe/Berlin
BEGIN:STANDARD
DTSTART:20171029T030000
TZOFFSETFROM:+0200
TZOFFSETTO:+0100
END:STANDARD
BEGIN:DAYLIGHT
DTSTART:20180325T020000
TZOFFSETFROM:+0100
TZOFFSETTO:+0200
END:DAYLIGHT
BEGIN:STANDARD
DTSTART:20181028T030000
TZOFFSETFROM:+0200
TZOFFSETTO:+0100
END:STANDARD
END:VTIMEZONE
BEGIN:VTIMEZONE
TZID:UTC
BEGIN:STANDARD
DTSTART:20220220T145212
TZOFFSETFROM:+0000
TZOFFSETTO:+0000
END:STANDARD
END:VTIMEZONE
BEGIN:VEVENT
UID:1053
DTSTAMP:20221117T145212Z
DTSTART;TZID=Europe/Berlin:20180626T200000
DTEND;TZID=Europe/Berlin:20180626T210000
SUMMARY:Vorstellung Startup-Initiative Düsseldorf / Ick koof mir´n Startu
 p – oder wie man Business Angel wird
DESCRIPTION:Vorstellung Startup-Initiative Düsseldorf \nReferent: Herr Uwe
  Kerkmann\, Leiter des Wirtschaftsförderungsamtes\nIck koof mir´n Startu
 p – oder wie man Business Angel wird \nReferent: Herr Arne Paul Oltmann\
 , geschäftsführender Gesellschafter des Rotonda
END:VEVENT
END:VCALENDAR