BEGIN:VCALENDAR
VERSION:2.0
PRODID:spatie/icalendar-generator
NAME:Düsseldorfer Jonges
X-WR-CALNAME:Düsseldorfer Jonges
BEGIN:VTIMEZONE
TZID:Europe/Berlin
BEGIN:DAYLIGHT
DTSTART:20180325T020000
TZOFFSETFROM:+0100
TZOFFSETTO:+0200
END:DAYLIGHT
BEGIN:STANDARD
DTSTART:20181028T030000
TZOFFSETFROM:+0200
TZOFFSETTO:+0100
END:STANDARD
END:VTIMEZONE
BEGIN:VTIMEZONE
TZID:UTC
BEGIN:STANDARD
DTSTART:20220220T145212
TZOFFSETFROM:+0000
TZOFFSETTO:+0000
END:STANDARD
END:VTIMEZONE
BEGIN:VEVENT
UID:1061
DTSTAMP:20221117T145212Z
DTSTART;TZID=Europe/Berlin:20180821T200000
DTEND;TZID=Europe/Berlin:20180821T210000
SUMMARY:Impulsvortrag: Absinth\, zwischen Legende und Realität  Referent: 
 Francois Besancon Hauptvortrag: Wohnungslos in Düsseldorf Miriam Koch Lei
 terin des Amtes für Integration und Migration
DESCRIPTION:Impulsvortrag: Absinth\, zwischen Legende und Realität \nRefer
 ent: Francois Besancon\nWohnungslos in Düsseldorf \nReferent: Miriam Koch
 \, Amtsleiterin im Amt für Migration und Integration
END:VEVENT
END:VCALENDAR