BEGIN:VCALENDAR
VERSION:2.0
PRODID:spatie/icalendar-generator
NAME:Düsseldorfer Jonges
X-WR-CALNAME:Düsseldorfer Jonges
BEGIN:VTIMEZONE
TZID:Europe/Berlin
BEGIN:DAYLIGHT
DTSTART:20180325T020000
TZOFFSETFROM:+0100
TZOFFSETTO:+0200
END:DAYLIGHT
BEGIN:STANDARD
DTSTART:20181028T030000
TZOFFSETFROM:+0200
TZOFFSETTO:+0100
END:STANDARD
BEGIN:DAYLIGHT
DTSTART:20190331T020000
TZOFFSETFROM:+0100
TZOFFSETTO:+0200
END:DAYLIGHT
END:VTIMEZONE
BEGIN:VTIMEZONE
TZID:UTC
BEGIN:STANDARD
DTSTART:20220220T145212
TZOFFSETFROM:+0000
TZOFFSETTO:+0000
END:STANDARD
END:VTIMEZONE
BEGIN:VEVENT
UID:1070
DTSTAMP:20221117T145212Z
DTSTART;TZID=Europe/Berlin:20181016T200000
DTEND;TZID=Europe/Berlin:20181016T210000
SUMMARY:Blindenreportage Blindenreporter  NCL-Stiftung Kinderdemenz
DESCRIPTION:Blindenreportage Blindenreporter \nReferent: Herr Frank Breuers
  \nNCL-Stiftung Kinderdemenz \nReferent: Dr. Frank Stehr\, Kinderdemenz / 
 Düsseldorfer Alzheimer Initiative\, NCL-Stiftung
END:VEVENT
END:VCALENDAR