BEGIN:VCALENDAR
VERSION:2.0
PRODID:spatie/icalendar-generator
NAME:Düsseldorfer Jonges
X-WR-CALNAME:Düsseldorfer Jonges
BEGIN:VTIMEZONE
TZID:Europe/Berlin
BEGIN:DAYLIGHT
DTSTART:20180325T020000
TZOFFSETFROM:+0100
TZOFFSETTO:+0200
END:DAYLIGHT
BEGIN:STANDARD
DTSTART:20181028T030000
TZOFFSETFROM:+0200
TZOFFSETTO:+0100
END:STANDARD
BEGIN:DAYLIGHT
DTSTART:20190331T020000
TZOFFSETFROM:+0100
TZOFFSETTO:+0200
END:DAYLIGHT
END:VTIMEZONE
BEGIN:VTIMEZONE
TZID:UTC
BEGIN:STANDARD
DTSTART:20220220T145212
TZOFFSETFROM:+0000
TZOFFSETTO:+0000
END:STANDARD
END:VTIMEZONE
BEGIN:VEVENT
UID:1075
DTSTAMP:20221117T145212Z
DTSTART;TZID=Europe/Berlin:20181120T200000
DTEND;TZID=Europe/Berlin:20181120T210000
SUMMARY:Verleihung der Hermann-Raths-Medaille Preisträger Dirk Elbers\, Ob
 erbürgermeister a.D.
DESCRIPTION:Verleihung der Hermann-Raths-Medaille\nPreisträger Dirk Elbers
 \, Oberbürgermeister a.D.\nLaudator: Klaus Peter Müller\, AR-Vor. Commer
 zbank AG
END:VEVENT
END:VCALENDAR