BEGIN:VCALENDAR
VERSION:2.0
PRODID:spatie/icalendar-generator
NAME:Düsseldorfer Jonges
X-WR-CALNAME:Düsseldorfer Jonges
BEGIN:VTIMEZONE
TZID:Europe/Berlin
BEGIN:STANDARD
DTSTART:20231029T030000
TZOFFSETFROM:+0200
TZOFFSETTO:+0100
END:STANDARD
BEGIN:DAYLIGHT
DTSTART:20240331T020000
TZOFFSETFROM:+0100
TZOFFSETTO:+0200
END:DAYLIGHT
END:VTIMEZONE
BEGIN:VTIMEZONE
TZID:UTC
BEGIN:STANDARD
DTSTART:20221005T133132
TZOFFSETFROM:+0000
TZOFFSETTO:+0000
END:STANDARD
END:VTIMEZONE
BEGIN:VEVENT
UID:1287
DTSTAMP:20230702T133132Z
DTSTART;TZID=Europe/Berlin:20240305T200000
DTEND;TZID=Europe/Berlin:20240305T210000
SUMMARY:Bürgerbegehren und Bürgerentscheide | Impulsvortrag: Makerspace i
 n NRW
DESCRIPTION:Referent: SASCHA D. PETERS\, Lehrstuhl Kommunalrecht und Mitgli
 ed des akademischen Rates\n\nReferent: Markus Lezaun\, Vorstandsmitglied V
 erein GarageLab e.V.
IMAGE;VALUE=URI:https://www.duesseldorferjonges.de/media_thumbs/cms/5cf6871
 a-fc44-4c92-99d2-57f0622ebdc2/crop-508-254-76-45-2c38bb6e9233342280a2d0947
 60eb939-fotolia-40794324-subscription-monthly-xxl.jpg/cbc01661086edf32be1e
 efd6d7bf46db.jpg?q=95&fit=max&crop=980%2C490%2C0%2C0&w=500&s=1909c5a560397
 100e71418df969b96d7
LOCATION:Henkel Saal\, Ratinger Str. 25\, 40213 Düsseldorf
END:VEVENT
END:VCALENDAR