BEGIN:VCALENDAR
VERSION:2.0
PRODID:spatie/icalendar-generator
NAME:Düsseldorfer Jonges
X-WR-CALNAME:Düsseldorfer Jonges
BEGIN:VTIMEZONE
TZID:Europe/Berlin
BEGIN:STANDARD
DTSTART:20231029T030000
TZOFFSETFROM:+0200
TZOFFSETTO:+0100
END:STANDARD
BEGIN:DAYLIGHT
DTSTART:20240331T020000
TZOFFSETFROM:+0100
TZOFFSETTO:+0200
END:DAYLIGHT
END:VTIMEZONE
BEGIN:VTIMEZONE
TZID:UTC
BEGIN:STANDARD
DTSTART:20221005T133421
TZOFFSETFROM:+0000
TZOFFSETTO:+0000
END:STANDARD
END:VTIMEZONE
BEGIN:VEVENT
UID:1290
DTSTAMP:20230702T133421Z
DTSTART;TZID=Europe/Berlin:20240102T200000
DTEND;TZID=Europe/Berlin:20240102T210000
SUMMARY:Aufnahme neuer Mitglieder und vierteljährliche Presseschau
DESCRIPTION:Aufnahme neuer Mitglieder und vierteljährliche Presseschau
IMAGE;VALUE=URI:https://www.duesseldorferjonges.de/media_thumbs/cms/5584094
 2-deb0-414b-8d6a-e4aaaa6087f3/7561-20220802-164949.jpg/aed2ed5954e05dd5a8e
 1cba52cba84e7.jpg?q=95&fit=max&crop=1000%2C746%2C0%2C0&w=500&s=739992cb129
 d66dd612e0c5d6b6d264d
LOCATION:Henkel Saal\, Ratinger Str. 25\, 40213 Düsseldorf
END:VEVENT
END:VCALENDAR