BEGIN:VCALENDAR
VERSION:2.0
PRODID:spatie/icalendar-generator
NAME:Düsseldorfer Jonges
X-WR-CALNAME:Düsseldorfer Jonges
BEGIN:VTIMEZONE
TZID:Europe/Berlin
BEGIN:STANDARD
DTSTART:20231029T030000
TZOFFSETFROM:+0200
TZOFFSETTO:+0100
END:STANDARD
BEGIN:DAYLIGHT
DTSTART:20240331T020000
TZOFFSETFROM:+0100
TZOFFSETTO:+0200
END:DAYLIGHT
END:VTIMEZONE
BEGIN:VTIMEZONE
TZID:UTC
BEGIN:STANDARD
DTSTART:20221005T133449
TZOFFSETFROM:+0000
TZOFFSETTO:+0000
END:STANDARD
END:VTIMEZONE
BEGIN:VEVENT
UID:1291
DTSTAMP:20230702T133449Z
DTSTART;TZID=Europe/Berlin:20240109T200000
DTEND;TZID=Europe/Berlin:20240109T210000
SUMMARY:in Planung | Impulsvortrag: Leo-Statz-Kinderspielplatz
DESCRIPTION:in Planung | \nReferentin: in Planung\nImpulsvortrag: Leo-Statz
 -Kinderspielplatz | \nReferent:\nMARTIN BALTSCHEIT\, Geschäftsführer der
  Baltscheit Bilderbuch Akademie
LOCATION:Henkel Saal\, Ratinger Str. 25\, 40213 Düsseldorf
END:VEVENT
END:VCALENDAR