BEGIN:VCALENDAR
VERSION:2.0
PRODID:spatie/icalendar-generator
NAME:Düsseldorfer Jonges
X-WR-CALNAME:Düsseldorfer Jonges
BEGIN:VTIMEZONE
TZID:Europe/Berlin
BEGIN:STANDARD
DTSTART:20231029T030000
TZOFFSETFROM:+0200
TZOFFSETTO:+0100
END:STANDARD
BEGIN:DAYLIGHT
DTSTART:20240331T020000
TZOFFSETFROM:+0100
TZOFFSETTO:+0200
END:DAYLIGHT
END:VTIMEZONE
BEGIN:VTIMEZONE
TZID:UTC
BEGIN:STANDARD
DTSTART:20230123T213528
TZOFFSETFROM:+0000
TZOFFSETTO:+0000
END:STANDARD
END:VTIMEZONE
BEGIN:VEVENT
UID:1295
DTSTAMP:20231020T213528Z
DTSTART;TZID=Europe/Berlin:20240121T143000
DTEND;TZID=Europe/Berlin:20240121T210000
SUMMARY:Jongessitzung 2024
DESCRIPTION:Die Karnevalssitzung der Düsseldorfer Jonges mit einem hochkar
 ätigen Sitzungsprogramm im Hilton Hotel Düsseldorf
IMAGE;VALUE=URI:https://www.duesseldorferjonges.de/media_thumbs/cms/62dbb3c
 f-88ca-476e-acfd-8f2997168f08/publiklum-jongessitzung.jpg/e94ed397a01a06bc
 2bd1714a637bafc5.jpg?q=95&fit=max&crop=650%2C434%2C0%2C0&w=500&s=13e427c93
 e90d54d8b53abba891f0adb
LOCATION:Hilton Hotel Arena\, Georg-Glock-Straße 20\, 40474 Düsseldorf
END:VEVENT
END:VCALENDAR