BEGIN:VCALENDAR
VERSION:2.0
PRODID:spatie/icalendar-generator
NAME:Düsseldorfer Jonges
X-WR-CALNAME:Düsseldorfer Jonges
BEGIN:VTIMEZONE
TZID:Europe/Berlin
BEGIN:STANDARD
DTSTART:20231029T030000
TZOFFSETFROM:+0200
TZOFFSETTO:+0100
END:STANDARD
BEGIN:DAYLIGHT
DTSTART:20240331T020000
TZOFFSETFROM:+0100
TZOFFSETTO:+0200
END:DAYLIGHT
END:VTIMEZONE
BEGIN:VTIMEZONE
TZID:UTC
BEGIN:STANDARD
DTSTART:20230209T205141
TZOFFSETFROM:+0000
TZOFFSETTO:+0000
END:STANDARD
END:VTIMEZONE
BEGIN:VEVENT
UID:1298
DTSTAMP:20231106T205141Z
DTSTART;TZID=Europe/Berlin:20240123T200000
DTEND;TZID=Europe/Berlin:20240123T210000
SUMMARY:Gutes Wohnen zu fairen Preisen in Deutschland – made in NRW | Imp
 ulsvortrag: Die Bedeutung der Außendarstellung durch caritativ-soziales E
 ngagement
DESCRIPTION:Gutes Wohnen zu fairen Preisen in Deutschland – made in NRW |
  \nReferent: \nLars von Lackum\, Vorstandsvorsitzender der LEG Immobilien 
 SE | \nImpulsvortrag: Die Bedeutung der Außendarstellung durch caritativ-
 soziales Engagement.\nReferentin:\nStephanie Jancke\, Geschäftsführerin 
 Verlag Agentur für KulturKommunikation
IMAGE;VALUE=URI:https://www.duesseldorferjonges.de/media_thumbs/cms/5233059
 6-a7e2-4557-bd21-80c4f2305195/csm-leg-ceo-lars-von-lackum-2023-006-cce7096
 65d.jpg/a79dd7f52949b5b6612e584df590fb74.jpg?q=95&fit=max&crop=800%2C600%2
 C0%2C0&w=500&s=9988292f2b2fbf152a28240f273f4676
LOCATION:Henkel Saal\, Ratinger Str. 25\, 40213 Düsseldorf
END:VEVENT
END:VCALENDAR