BEGIN:VCALENDAR
VERSION:2.0
PRODID:spatie/icalendar-generator
NAME:Düsseldorfer Jonges
X-WR-CALNAME:Düsseldorfer Jonges
BEGIN:VTIMEZONE
TZID:Europe/Berlin
BEGIN:STANDARD
DTSTART:20231029T030000
TZOFFSETFROM:+0200
TZOFFSETTO:+0100
END:STANDARD
BEGIN:DAYLIGHT
DTSTART:20240331T020000
TZOFFSETFROM:+0100
TZOFFSETTO:+0200
END:DAYLIGHT
END:VTIMEZONE
BEGIN:VTIMEZONE
TZID:UTC
BEGIN:STANDARD
DTSTART:20230209T205240
TZOFFSETFROM:+0000
TZOFFSETTO:+0000
END:STANDARD
END:VTIMEZONE
BEGIN:VEVENT
UID:1300
DTSTAMP:20231106T205240Z
DTSTART;TZID=Europe/Berlin:20240206T200000
DTEND;TZID=Europe/Berlin:20240206T210000
SUMMARY:Sicherheit in der Düsseldorfer Altstadt | Fördervereins Palliativ
 arbeit Düsseldorf
DESCRIPTION:Hauptvortrag: Sicherheit in der Düsseldorfer Altstadt |\n\nRef
 erentin:\nProf. Dr. JANET KURSAWE\, \nMitherausgeberin der Zeitschrift Rec
 htspsychologie\, Professorin für Politikwissenschaft und Soziologie an de
 r Hochschule für Polizei und öffentliche Verwaltung NRW |\n\nImpulsvortr
 ag:  \nFördervereins Palliativarbeit Düsseldorf e.V. |\nReferent:\nDr. L
 öns Förderverein Palliativarbeit
IMAGE;VALUE=URI:https://www.duesseldorferjonges.de/media_thumbs/cms/74811ce
 9-c9b6-4dd5-ad4b-0d2a2cf605ae/csm-janet-kursawe-hr-12979f462c.jpg/2f1d78a4
 1a03608842ce384733585af4.jpg?q=95&fit=max&crop=400%2C400%2C0%2C0&w=500&s=c
 d465944f2be281c0c4633de4cff2d48
LOCATION:Henkel Saal\, Ratinger Str. 25\, 40213 Düsseldorf
END:VEVENT
END:VCALENDAR