BEGIN:VCALENDAR
VERSION:2.0
PRODID:spatie/icalendar-generator
NAME:Düsseldorfer Jonges
X-WR-CALNAME:Düsseldorfer Jonges
BEGIN:VTIMEZONE
TZID:Europe/Berlin
BEGIN:STANDARD
DTSTART:20231029T030000
TZOFFSETFROM:+0200
TZOFFSETTO:+0100
END:STANDARD
BEGIN:DAYLIGHT
DTSTART:20240331T020000
TZOFFSETFROM:+0100
TZOFFSETTO:+0200
END:DAYLIGHT
END:VTIMEZONE
BEGIN:VTIMEZONE
TZID:UTC
BEGIN:STANDARD
DTSTART:20230209T205310
TZOFFSETFROM:+0000
TZOFFSETTO:+0000
END:STANDARD
END:VTIMEZONE
BEGIN:VEVENT
UID:1301
DTSTAMP:20231106T205310Z
DTSTART;TZID=Europe/Berlin:20240213T200000
DTEND;TZID=Europe/Berlin:20240213T210000
SUMMARY:Karnevalistischer Austausch mit Puerto de la Cruz und Düsseldorf
DESCRIPTION:Karnevalistischer Austausch mit Puerto de la Cruz und Düsseldo
 rf\n\nIm Gepäck die Blumenkönigin mit ihren Hofdamen\, den König des Ka
 rnevals und den Vize\, \nsowie eine Batucada Band und einigen Vertreter de
 s Rathauses von Puerto de la Cruz.
IMAGE;VALUE=URI:https://www.duesseldorferjonges.de/media_thumbs/cms/583e73a
 9-2a66-4bba-b1b2-3a97e896eadd/karneval-puerto-de-la-cruz-kostueme.jpg/85c4
 e447ba26808d334efe46267a8a8e.jpg?q=95&fit=max&crop=1024%2C684%2C0%2C0&w=50
 0&s=6e8dfddde3d22424644ff1b14c0ba3a1
LOCATION:Henkel Saal\, Ratinger Str. 25\, 40213 Düsseldorf
END:VEVENT
END:VCALENDAR