BEGIN:VCALENDAR
VERSION:2.0
PRODID:spatie/icalendar-generator
NAME:Düsseldorfer Jonges
X-WR-CALNAME:Düsseldorfer Jonges
BEGIN:VTIMEZONE
TZID:Europe/Berlin
BEGIN:STANDARD
DTSTART:20231029T030000
TZOFFSETFROM:+0200
TZOFFSETTO:+0100
END:STANDARD
BEGIN:DAYLIGHT
DTSTART:20240331T020000
TZOFFSETFROM:+0100
TZOFFSETTO:+0200
END:DAYLIGHT
END:VTIMEZONE
BEGIN:VTIMEZONE
TZID:UTC
BEGIN:STANDARD
DTSTART:20230209T205344
TZOFFSETFROM:+0000
TZOFFSETTO:+0000
END:STANDARD
END:VTIMEZONE
BEGIN:VEVENT
UID:1302
DTSTAMP:20231106T205344Z
DTSTART;TZID=Europe/Berlin:20240130T200000
DTEND;TZID=Europe/Berlin:20240130T210000
SUMMARY:„Empfang des Prinzenpaares“
DESCRIPTION:„Empfang des Prinzenpaares“\nPrinzenpaar in Düsseldorfer K
 arneval 2024: \nPrinz Uwe und Venetia Melanie
IMAGE;VALUE=URI:https://www.duesseldorferjonges.de/media_thumbs/cms/e403048
 a-ade9-463d-87eb-f9989030dafa/prizenpaarfoto-2024.jpg/88df44d6b7af5d1d5f29
 36c8ffb926a2.jpg?q=95&fit=max&crop=627%2C800%2C0%2C0&w=500&s=2d944377aa557
 6ea8c87796837b7a14b
LOCATION:Henkel Saal\, Ratinger Str. 25\, 40213 Düsseldorf
END:VEVENT
END:VCALENDAR