BEGIN:VCALENDAR
VERSION:2.0
PRODID:spatie/icalendar-generator
NAME:Düsseldorfer Jonges
X-WR-CALNAME:Düsseldorfer Jonges
BEGIN:VTIMEZONE
TZID:Europe/Berlin
BEGIN:STANDARD
DTSTART:20231029T030000
TZOFFSETFROM:+0200
TZOFFSETTO:+0100
END:STANDARD
BEGIN:DAYLIGHT
DTSTART:20240331T020000
TZOFFSETFROM:+0100
TZOFFSETTO:+0200
END:DAYLIGHT
END:VTIMEZONE
BEGIN:VTIMEZONE
TZID:UTC
BEGIN:STANDARD
DTSTART:20230209T205407
TZOFFSETFROM:+0000
TZOFFSETTO:+0000
END:STANDARD
END:VTIMEZONE
BEGIN:VEVENT
UID:1303
DTSTAMP:20231106T205407Z
DTSTART;TZID=Europe/Berlin:20240227T200000
DTEND;TZID=Europe/Berlin:20240227T210000
SUMMARY:Antisemitismus im Alltag
DESCRIPTION:„Antisemitismus im Alltag – Ein aktuelles Lagebild und Ausb
 lick für Nordrhein-Westfalen“\nReferentin:\nSabine Leutheusser-Schnarre
 nberger\, Antisemitismusbeauftragten des Landes Nordrhein-Westfalen und Mi
 tglied des Bayerischen Verfassungsgerichtshofes |\nReferent:\nPeter Labouv
 ie\, Ratsherr der Landeshauptstadt Düsseldorf
IMAGE;VALUE=URI:https://www.duesseldorferjonges.de/media_thumbs/cms/f5ff736
 3-0d5d-4924-9712-2e78645b2ea2/gettyimages-498778204-1024x1024.jpg/8d6270f0
 4fa5c449669cc4818a66d34b.jpg?q=95&fit=max&crop=683%2C1024%2C0%2C0&w=500&s=
 ca86f1ac636d52e917f4b509b51536f4
LOCATION:Henkel Saal\, Ratinger Str. 25\, 40213 Düsseldorf
END:VEVENT
END:VCALENDAR