BEGIN:VCALENDAR
VERSION:2.0
PRODID:spatie/icalendar-generator
NAME:Düsseldorfer Jonges
X-WR-CALNAME:Düsseldorfer Jonges
BEGIN:VTIMEZONE
TZID:Europe/Berlin
BEGIN:STANDARD
DTSTART:20231029T030000
TZOFFSETFROM:+0200
TZOFFSETTO:+0100
END:STANDARD
BEGIN:DAYLIGHT
DTSTART:20240331T020000
TZOFFSETFROM:+0100
TZOFFSETTO:+0200
END:DAYLIGHT
END:VTIMEZONE
BEGIN:VTIMEZONE
TZID:UTC
BEGIN:STANDARD
DTSTART:20230209T205442
TZOFFSETFROM:+0000
TZOFFSETTO:+0000
END:STANDARD
END:VTIMEZONE
BEGIN:VEVENT
UID:1304
DTSTAMP:20231106T205442Z
DTSTART;TZID=Europe/Berlin:20240319T200000
DTEND;TZID=Europe/Berlin:20240319T210000
SUMMARY:Charity-Abend März 2024
DESCRIPTION:Charity-Abend im März 2024\n\nDie 10 Empfänger der jeweils 2.
 500 EURO werden noch zeitnah bekanntgegeben. \n\nModerator:\nReinhold Hahl
 hege\, Vizebaas der Düsseldorfer Jonges
IMAGE;VALUE=URI:https://www.duesseldorferjonges.de/media_thumbs/cms/7e2fa56
 8-f1af-4d58-9556-4f631bbcf41f/reinhold-hahlhege-projektmanagement-controll
 ing.jpg/598970dc62112ea35014a74459d935fe.jpg?q=95&fit=max&crop=520%2C520%2
 C0%2C0&w=500&s=ac751599fa70bd38bf4f3a93efca8043
LOCATION:Henkel Saal\, Ratinger Str. 25\, 40213 Düsseldorf
END:VEVENT
END:VCALENDAR