BEGIN:VCALENDAR
VERSION:2.0
PRODID:spatie/icalendar-generator
NAME:Düsseldorfer Jonges
X-WR-CALNAME:Düsseldorfer Jonges
BEGIN:VTIMEZONE
TZID:Europe/Berlin
BEGIN:STANDARD
DTSTART:20231029T030000
TZOFFSETFROM:+0200
TZOFFSETTO:+0100
END:STANDARD
BEGIN:DAYLIGHT
DTSTART:20240331T020000
TZOFFSETFROM:+0100
TZOFFSETTO:+0200
END:DAYLIGHT
END:VTIMEZONE
BEGIN:VTIMEZONE
TZID:UTC
BEGIN:STANDARD
DTSTART:20230209T205510
TZOFFSETFROM:+0000
TZOFFSETTO:+0000
END:STANDARD
END:VTIMEZONE
BEGIN:VEVENT
UID:1305
DTSTAMP:20231106T205510Z
DTSTART;TZID=Europe/Berlin:20240312T200000
DTEND;TZID=Europe/Berlin:20240312T210000
SUMMARY:\"Die Franzosen wollten Holz und Kohle. Düsseldorfer gaben Wein un
 d Signale\; bis heute\"
DESCRIPTION:\"Die Franzosen wollten Holz und Kohle. Düsseldorfer gaben Wei
 n und Signale\; bis heute\"\nReferent:\nMartin Beier\, Chefredakteur der Z
 eitschrift Das Wertpapier sowie des Portals Wallstreet Online.\nImpulsvort
 rag: Stiftung Pro Sport Düsseldorf\nReferent:\nTobias Scherbarth\, Gesch
 äftsführer Sportamt der Landeshauptstadt Düsseldorf
IMAGE;VALUE=URI:https://www.duesseldorferjonges.de/media_thumbs/cms/32aeec7
 a-01e6-4883-a692-04883060bb70/martin-beier-duesseldorf-1.jpg/2819c67c0c346
 19f779a26e03bcd41c5.jpg?q=95&fit=max&crop=940%2C400%2C0%2C0&w=500&s=2ec650
 9075d533c3d7add9ef64d77ffd
LOCATION:Henkel Saal\, Ratinger Str. 25\, 40213 Düsseldorf
END:VEVENT
END:VCALENDAR