BEGIN:VCALENDAR
VERSION:2.0
PRODID:spatie/icalendar-generator
NAME:Düsseldorfer Jonges
X-WR-CALNAME:Düsseldorfer Jonges
BEGIN:VTIMEZONE
TZID:Europe/Berlin
BEGIN:STANDARD
DTSTART:20231029T030000
TZOFFSETFROM:+0200
TZOFFSETTO:+0100
END:STANDARD
BEGIN:DAYLIGHT
DTSTART:20240331T020000
TZOFFSETFROM:+0100
TZOFFSETTO:+0200
END:DAYLIGHT
END:VTIMEZONE
BEGIN:VTIMEZONE
TZID:UTC
BEGIN:STANDARD
DTSTART:20230209T205534
TZOFFSETFROM:+0000
TZOFFSETTO:+0000
END:STANDARD
END:VTIMEZONE
BEGIN:VEVENT
UID:1306
DTSTAMP:20231106T205534Z
DTSTART;TZID=Europe/Berlin:20240326T200000
DTEND;TZID=Europe/Berlin:20240326T210000
SUMMARY:Stiftungsfest mit Ehrungen
DESCRIPTION:Stiftungsfest mit Ehrungen und der Erbsensuppe mit Bockwurst\nM
 oderator:\nWolfgang Rolshoven\, Baas der Düsseldorfer Jonges
IMAGE;VALUE=URI:https://www.duesseldorferjonges.de/media_thumbs/cms/2ceb8e0
 1-8cb2-4708-8180-789cbd66cf25/dsc-6854.jpg/7b99dc54f2d7c1324f40313b24f1305
 d.jpg?q=95&fit=max&crop=1024%2C684%2C0%2C0&w=500&s=456892ab11c5631f2e04359
 bc253f436
LOCATION:Henkel Saal\, Ratinger Str. 25\, 40213 Düsseldorf
END:VEVENT
END:VCALENDAR