BEGIN:VCALENDAR
VERSION:2.0
PRODID:spatie/icalendar-generator
NAME:Düsseldorfer Jonges
X-WR-CALNAME:Düsseldorfer Jonges
BEGIN:VTIMEZONE
TZID:Europe/Berlin
BEGIN:STANDARD
DTSTART:20231029T030000
TZOFFSETFROM:+0200
TZOFFSETTO:+0100
END:STANDARD
BEGIN:DAYLIGHT
DTSTART:20240331T020000
TZOFFSETFROM:+0100
TZOFFSETTO:+0200
END:DAYLIGHT
END:VTIMEZONE
BEGIN:VTIMEZONE
TZID:UTC
BEGIN:STANDARD
DTSTART:20230419T202122
TZOFFSETFROM:+0000
TZOFFSETTO:+0000
END:STANDARD
END:VTIMEZONE
BEGIN:VEVENT
UID:1308
DTSTAMP:20240114T202122Z
DTSTART;TZID=Europe/Berlin:20240402T200000
DTEND;TZID=Europe/Berlin:20240402T210000
SUMMARY:Zukunftsentwicklung der ärztlichen Versorgung\, kann KI die Lösun
 g sein?
DESCRIPTION:An diesem Heimatabend ebenfalls: Ostereierkippen
IMAGE;VALUE=URI:https://www.duesseldorferjonges.de/media_thumbs/cms/91e2db2
 5-14ca-4dbd-98c0-f67d7b90e961/markus-groteguth.jpg/a950f50a0de8a90969a5238
 b92cfd8d8.jpg?q=95&fit=max&crop=510%2C510%2C0%2C0&w=500&s=e415fbf8b039bbd8
 6e5e0e69b78db657
LOCATION:Henkel Saal\, Ratinger Str. 25\, 40213 Düsseldorf
END:VEVENT
END:VCALENDAR