BEGIN:VCALENDAR
VERSION:2.0
PRODID:spatie/icalendar-generator
NAME:Düsseldorfer Jonges
X-WR-CALNAME:Düsseldorfer Jonges
BEGIN:VTIMEZONE
TZID:Europe/Berlin
BEGIN:STANDARD
DTSTART:20231029T030000
TZOFFSETFROM:+0200
TZOFFSETTO:+0100
END:STANDARD
BEGIN:DAYLIGHT
DTSTART:20240331T020000
TZOFFSETFROM:+0100
TZOFFSETTO:+0200
END:DAYLIGHT
END:VTIMEZONE
BEGIN:VTIMEZONE
TZID:UTC
BEGIN:STANDARD
DTSTART:20230419T202204
TZOFFSETFROM:+0000
TZOFFSETTO:+0000
END:STANDARD
END:VTIMEZONE
BEGIN:VEVENT
UID:1309
DTSTAMP:20240114T202204Z
DTSTART;TZID=Europe/Berlin:20240409T200000
DTEND;TZID=Europe/Berlin:20240409T210000
SUMMARY:Aufnahme neuer Mitglieder vierteljährliche Presseschau
DESCRIPTION:Aufnahme neuer Mitglieder und vierteljährliche Presseschau \nR
 eferent:\nChristian Herrendorf\, Autor und Gründer von VierNull
IMAGE;VALUE=URI:https://www.duesseldorferjonges.de/media_thumbs/cms/9763f06
 b-52c7-4467-b57d-dedf48bbdd55/w1900-h1266-x1796-y1197-cherrendorf-037-921b
 680acbb99f8e.jpg/d7e4346162e166342c4f76fbdb8363e7.jpg?q=95&fit=max&crop=19
 00%2C1266%2C0%2C0&w=500&s=95f32531330481fd28746001c1c3b804
LOCATION:Henkel Saal\, Ratinger Str. 25\, 40213 Düsseldorf
END:VEVENT
END:VCALENDAR