BEGIN:VCALENDAR
VERSION:2.0
PRODID:spatie/icalendar-generator
NAME:Düsseldorfer Jonges
X-WR-CALNAME:Düsseldorfer Jonges
BEGIN:VTIMEZONE
TZID:Europe/Berlin
BEGIN:STANDARD
DTSTART:20231029T030000
TZOFFSETFROM:+0200
TZOFFSETTO:+0100
END:STANDARD
BEGIN:DAYLIGHT
DTSTART:20240331T020000
TZOFFSETFROM:+0100
TZOFFSETTO:+0200
END:DAYLIGHT
END:VTIMEZONE
BEGIN:VTIMEZONE
TZID:UTC
BEGIN:STANDARD
DTSTART:20230419T202237
TZOFFSETFROM:+0000
TZOFFSETTO:+0000
END:STANDARD
END:VTIMEZONE
BEGIN:VEVENT
UID:1310
DTSTAMP:20240114T202237Z
DTSTART;TZID=Europe/Berlin:20240416T200000
DTEND;TZID=Europe/Berlin:20240416T210000
SUMMARY:Jährlicher Presserückblick 2023 der Düsseldorfer Jonges
DESCRIPTION:Jährlicher Presserückblick 2023 der Düsseldorfer Jonges | \n
 \nReferent: \nJockel Umbach\, Initiator RhineCleanUp\n\n... und ein Videof
 ilm über Düsseldorf
IMAGE;VALUE=URI:https://www.duesseldorferjonges.de/media_thumbs/cms/a174d77
 a-ab27-4937-b6e9-d854c60fe52e/186495-artdetail-top-1arryp-m3ojrp.jpg/b8e92
 d66aa7d5c3cb31d45464ca25ec1.jpg?q=95&fit=max&crop=1240%2C620%2C0%2C0&w=500
 &s=4ed1d789fe302bee6021b8515c38b8b1
LOCATION:Henkel Saal\, Ratinger Str. 25\, 40213 Düsseldorf
END:VEVENT
END:VCALENDAR