BEGIN:VCALENDAR
VERSION:2.0
PRODID:spatie/icalendar-generator
NAME:Düsseldorfer Jonges
X-WR-CALNAME:Düsseldorfer Jonges
BEGIN:VTIMEZONE
TZID:Europe/Berlin
BEGIN:STANDARD
DTSTART:20231029T030000
TZOFFSETFROM:+0200
TZOFFSETTO:+0100
END:STANDARD
BEGIN:DAYLIGHT
DTSTART:20240331T020000
TZOFFSETFROM:+0100
TZOFFSETTO:+0200
END:DAYLIGHT
END:VTIMEZONE
BEGIN:VTIMEZONE
TZID:UTC
BEGIN:STANDARD
DTSTART:20230419T202302
TZOFFSETFROM:+0000
TZOFFSETTO:+0000
END:STANDARD
END:VTIMEZONE
BEGIN:VEVENT
UID:1311
DTSTAMP:20240114T202302Z
DTSTART;TZID=Europe/Berlin:20240423T200000
DTEND;TZID=Europe/Berlin:20240423T210000
SUMMARY:Vortrag des ehemaligen Vorsitzenden der Wirtschaftsweisen | Impulsv
 ortrag: Vorstellung der WIZO Gruppe Düsseldorf e.V. |
DESCRIPTION:Vortrag des ehemaligen Vorsitzenden der Wirtschaftsweisen | \nR
 eferent:\nPROF. DR. BERT RÜRUP\, Chefökonom des Handelsblatts | \n\nImpu
 lsvortrag: Vorstellung der WIZO Gruppe Düsseldorf e.V. | \nReferentin:\nF
 rau Miel Rachel Koenigshaus\, Vorstand der WIZO-Gruppe
IMAGE;VALUE=URI:https://www.duesseldorferjonges.de/media_thumbs/cms/fd6816c
 a-7828-4ea1-a75f-92e13ab7fa6e/ruerupbert-handelsblatt-quer-cm0423-web.jpg/
 58b56e8afa04179a9b7aa9fabeb29dce.jpg?q=95&fit=max&crop=850%2C566%2C0%2C0&w
 =500&s=1eb1f38fcd7c69d95a3a9049edaf92c2
LOCATION:Henkel Saal\, Ratinger Str. 25\, 40213 Düsseldorf
END:VEVENT
END:VCALENDAR