BEGIN:VCALENDAR
VERSION:2.0
PRODID:spatie/icalendar-generator
NAME:Düsseldorfer Jonges
X-WR-CALNAME:Düsseldorfer Jonges
BEGIN:VTIMEZONE
TZID:Europe/Berlin
BEGIN:STANDARD
DTSTART:20231029T030000
TZOFFSETFROM:+0200
TZOFFSETTO:+0100
END:STANDARD
BEGIN:DAYLIGHT
DTSTART:20240331T020000
TZOFFSETFROM:+0100
TZOFFSETTO:+0200
END:DAYLIGHT
BEGIN:STANDARD
DTSTART:20241027T030000
TZOFFSETFROM:+0200
TZOFFSETTO:+0100
END:STANDARD
END:VTIMEZONE
BEGIN:VTIMEZONE
TZID:UTC
BEGIN:STANDARD
DTSTART:20230419T202331
TZOFFSETFROM:+0000
TZOFFSETTO:+0000
END:STANDARD
END:VTIMEZONE
BEGIN:VEVENT
UID:1312
DTSTAMP:20240114T202331Z
DTSTART;TZID=Europe/Berlin:20240430T190000
DTEND;TZID=Europe/Berlin:20240430T220000
SUMMARY:Mitgliederversammlung 2024 und Ehrung der Treuenadeln
DESCRIPTION:Mitgliederversammlung 2024 | \n\nVerleihung der goldenen und si
 lbernen Treuenadeln | \n\nModerator: \nWOLFGANG ROLSHOVEN\, Baas der Düss
 eldorfer Jonges
IMAGE;VALUE=URI:https://www.duesseldorferjonges.de/media_thumbs/cms/fe893f8
 4-9e33-467d-a13b-721310828de0/dsc-0471.jpg/f1bea3c6be3c70ebe63b4ee4fa0a98f
 3.jpg?q=95&fit=max&crop=1024%2C684%2C0%2C0&w=500&s=54f3ef39389111b05eff9da
 4edf9057f
LOCATION:Henkel Saal\, Ratinger Str. 25\, 40213 Düsseldorf
END:VEVENT
END:VCALENDAR