BEGIN:VCALENDAR
VERSION:2.0
PRODID:spatie/icalendar-generator
NAME:Düsseldorfer Jonges
X-WR-CALNAME:Düsseldorfer Jonges
BEGIN:VTIMEZONE
TZID:Europe/Berlin
BEGIN:STANDARD
DTSTART:20231029T030000
TZOFFSETFROM:+0200
TZOFFSETTO:+0100
END:STANDARD
BEGIN:DAYLIGHT
DTSTART:20240331T020000
TZOFFSETFROM:+0100
TZOFFSETTO:+0200
END:DAYLIGHT
BEGIN:STANDARD
DTSTART:20241027T030000
TZOFFSETFROM:+0200
TZOFFSETTO:+0100
END:STANDARD
END:VTIMEZONE
BEGIN:VTIMEZONE
TZID:UTC
BEGIN:STANDARD
DTSTART:20230419T202859
TZOFFSETFROM:+0000
TZOFFSETTO:+0000
END:STANDARD
END:VTIMEZONE
BEGIN:VEVENT
UID:1316
DTSTAMP:20240114T202859Z
DTSTART;TZID=Europe/Berlin:20240528T200000
DTEND;TZID=Europe/Berlin:20240528T210000
SUMMARY:Förderpreis für Musik
DESCRIPTION:Förderpreis für Musik | \n\nModerator:\nReinhold Hahlhege\, V
 izebaas Düsseldorfer Jonges | \n\nLaudatorin: \nProf. Inga Lühning\, Hon
 orarprofessorin für Pop- / Jazz-Gesang |
IMAGE;VALUE=URI:https://www.duesseldorferjonges.de/media_thumbs/cms/d682e4c
 3-679c-41f5-8d71-d990c8cce371/images.jpeg/30106a33c4303dc561bbc59a36d3106c
 .jpeg?q=95&fit=max&crop=290%2C174%2C0%2C0&w=500&s=7fc163408594cf4e4382ca9a
 337b903a
LOCATION:Henkel Saal\, Ratinger Str. 25\, 40213 Düsseldorf
END:VEVENT
END:VCALENDAR