BEGIN:VCALENDAR
VERSION:2.0
PRODID:spatie/icalendar-generator
NAME:Düsseldorfer Jonges
X-WR-CALNAME:Düsseldorfer Jonges
BEGIN:VTIMEZONE
TZID:Europe/Berlin
BEGIN:STANDARD
DTSTART:20231029T030000
TZOFFSETFROM:+0200
TZOFFSETTO:+0100
END:STANDARD
BEGIN:DAYLIGHT
DTSTART:20240331T020000
TZOFFSETFROM:+0100
TZOFFSETTO:+0200
END:DAYLIGHT
BEGIN:STANDARD
DTSTART:20241027T030000
TZOFFSETFROM:+0200
TZOFFSETTO:+0100
END:STANDARD
END:VTIMEZONE
BEGIN:VTIMEZONE
TZID:UTC
BEGIN:STANDARD
DTSTART:20230419T202929
TZOFFSETFROM:+0000
TZOFFSETTO:+0000
END:STANDARD
END:VTIMEZONE
BEGIN:VEVENT
UID:1317
DTSTAMP:20240114T202929Z
DTSTART;TZID=Europe/Berlin:20240604T200000
DTEND;TZID=Europe/Berlin:20240604T210000
SUMMARY:“Wir leben für Wasser: Der Bergisch-Rheinische Wasserverband und
  seine Aufgaben“ | Musikprojekt in-DUSTRIAL
DESCRIPTION:“Wir leben für Wasser: Der Bergisch-Rheinische Wasserverband
  und seine Aufgaben“ | \nReferent:\nEngin Alparslan\, Geschäftsführer 
 der Bergisch-Rheinischer Wasserverband BRW | \nImpulsvortrag:			\nMusikpro
 jekt in-DUSTRIAL | \nReferent:\nMarco Georg Zaic\, Fachreferent\, Büro Ob
 erbürgermeister
IMAGE;VALUE=URI:https://www.duesseldorferjonges.de/media_thumbs/cms/cc7b4b1
 5-fd9d-495d-95f8-7d0c0363c023/screenshot-2024-05-26-202934.png/2a108ead66a
 c3aa179b3922930eaabb9.png?q=95&fit=max&crop=337%2C383%2C0%2C0&w=500&s=53d4
 081af601acb766ec4c67cba53c1c
LOCATION:Henkel Saal\, Ratinger Str. 25\, 40213 Düsseldorf
END:VEVENT
END:VCALENDAR