BEGIN:VCALENDAR
VERSION:2.0
PRODID:spatie/icalendar-generator
NAME:Düsseldorfer Jonges
X-WR-CALNAME:Düsseldorfer Jonges
BEGIN:VTIMEZONE
TZID:Europe/Berlin
BEGIN:STANDARD
DTSTART:20231029T030000
TZOFFSETFROM:+0200
TZOFFSETTO:+0100
END:STANDARD
BEGIN:DAYLIGHT
DTSTART:20240331T020000
TZOFFSETFROM:+0100
TZOFFSETTO:+0200
END:DAYLIGHT
BEGIN:STANDARD
DTSTART:20241027T030000
TZOFFSETFROM:+0200
TZOFFSETTO:+0100
END:STANDARD
END:VTIMEZONE
BEGIN:VTIMEZONE
TZID:UTC
BEGIN:STANDARD
DTSTART:20230419T203006
TZOFFSETFROM:+0000
TZOFFSETTO:+0000
END:STANDARD
END:VTIMEZONE
BEGIN:VEVENT
UID:1318
DTSTAMP:20240114T203006Z
DTSTART;TZID=Europe/Berlin:20240611T200000
DTEND;TZID=Europe/Berlin:20240611T210000
SUMMARY:DUS Flughafen Düsseldorf | Kunst- und Musikhochschulen
DESCRIPTION:DUS Flughafen Düsseldorf |\nReferent:\nLars Redeligx\, Vorsitz
 ender der Geschäftsführung der Flughafen Düsseldorf GmbH | \nImpulsvort
 rag: Kunst- und Musikhochschulen | \nReferentin:\nDr. Cathrin Müller-Bros
 ch\, Kanzlerin Musikhochschule
IMAGE;VALUE=URI:https://www.duesseldorferjonges.de/media_thumbs/cms/694a19c
 1-7988-49d5-aefd-04fd48e9cc3f/-01n9960.jpg/c61421ac0da3facfc17df1c51bd456a
 a.jpg?q=95&fit=max&crop=3543%2C2362%2C0%2C0&w=500&s=5f922c446536353aee70c9
 ebd6eb4920
LOCATION:Henkel Saal\, Ratinger Str. 25\, 40213 Düsseldorf
END:VEVENT
END:VCALENDAR