BEGIN:VCALENDAR
VERSION:2.0
PRODID:spatie/icalendar-generator
NAME:Düsseldorfer Jonges
X-WR-CALNAME:Düsseldorfer Jonges
BEGIN:VTIMEZONE
TZID:Europe/Berlin
BEGIN:STANDARD
DTSTART:20231029T030000
TZOFFSETFROM:+0200
TZOFFSETTO:+0100
END:STANDARD
BEGIN:DAYLIGHT
DTSTART:20240331T020000
TZOFFSETFROM:+0100
TZOFFSETTO:+0200
END:DAYLIGHT
BEGIN:STANDARD
DTSTART:20241027T030000
TZOFFSETFROM:+0200
TZOFFSETTO:+0100
END:STANDARD
END:VTIMEZONE
BEGIN:VTIMEZONE
TZID:UTC
BEGIN:STANDARD
DTSTART:20230419T203057
TZOFFSETFROM:+0000
TZOFFSETTO:+0000
END:STANDARD
END:VTIMEZONE
BEGIN:VEVENT
UID:1320
DTSTAMP:20240114T203057Z
DTSTART;TZID=Europe/Berlin:20240625T200000
DTEND;TZID=Europe/Berlin:20240625T210000
SUMMARY:\"Ein Gesundheitsamt zwischen Gesundheitswesen und Gesundheitssyste
 m\" | „Wohnungspolitik auf dem Prüfstand“
DESCRIPTION:\"Ein Gesundheitsamt zwischen Gesundheitswesen und Gesundheitss
 ystem\" | \nReferent:\nDr. Max Skorning\, Leiter des Gesundheitsamtes der 
 Landeshauptstadt Düsseldorf | \n\nImpulsvortrag: \"Wohnungspolitik auf de
 m Prüfstand\"\nReferent:\nDr. Werner Fliescher Geschäftsführer Haus und
  Grund
IMAGE;VALUE=URI:https://www.duesseldorferjonges.de/media_thumbs/cms/afd080a
 9-3c4f-4dd4-a5c8-8e9e3c560f04/csm-221216-max-skorning53-b8215c446b.jpg/93c
 cf668649a1420a45a068a6357566c.jpg?q=95&fit=max&crop=900%2C600%2C0%2C0&w=50
 0&s=be53e9fe2dbd58b4579a8564834f80a0
LOCATION:Henkel Saal\, Ratinger Str. 25\, 40213 Düsseldorf
END:VEVENT
END:VCALENDAR