BEGIN:VCALENDAR
VERSION:2.0
PRODID:spatie/icalendar-generator
NAME:Düsseldorfer Jonges
X-WR-CALNAME:Düsseldorfer Jonges
BEGIN:VTIMEZONE
TZID:Europe/Berlin
BEGIN:STANDARD
DTSTART:20231029T030000
TZOFFSETFROM:+0200
TZOFFSETTO:+0100
END:STANDARD
BEGIN:DAYLIGHT
DTSTART:20240331T020000
TZOFFSETFROM:+0100
TZOFFSETTO:+0200
END:DAYLIGHT
END:VTIMEZONE
BEGIN:VTIMEZONE
TZID:UTC
BEGIN:STANDARD
DTSTART:20230428T142118
TZOFFSETFROM:+0000
TZOFFSETTO:+0000
END:STANDARD
END:VTIMEZONE
BEGIN:VEVENT
UID:1321
DTSTAMP:20240123T142118Z
DTSTART;TZID=Europe/Berlin:20240127T120000
SUMMARY:Demonstration gegen Rechts!
DESCRIPTION:Wir schweigen nicht. Wir schauen nicht weg. Wir handeln!
IMAGE;VALUE=URI:https://www.duesseldorferjonges.de/media_thumbs/cms/b0917b5
 1-d098-4977-be5d-1a4e77833ad0/jonges-demo.png/4ef6d095a2bee8244b54a2bf0fdd
 ae78.png?q=95&fit=max&crop=1270%2C776%2C0%2C0&w=500&s=a5ec065646dce2d9c6b7
 930c991c855a
LOCATION:DGB Haus\, Friedrich-Ebert-Straße 34-38\, 40210 Düsseldorf
END:VEVENT
END:VCALENDAR