BEGIN:VCALENDAR
VERSION:2.0
PRODID:spatie/icalendar-generator
NAME:Düsseldorfer Jonges
X-WR-CALNAME:Düsseldorfer Jonges
BEGIN:VTIMEZONE
TZID:Europe/Berlin
BEGIN:STANDARD
DTSTART:20231029T030000
TZOFFSETFROM:+0200
TZOFFSETTO:+0100
END:STANDARD
BEGIN:DAYLIGHT
DTSTART:20240331T020000
TZOFFSETFROM:+0100
TZOFFSETTO:+0200
END:DAYLIGHT
BEGIN:STANDARD
DTSTART:20241027T030000
TZOFFSETFROM:+0200
TZOFFSETTO:+0100
END:STANDARD
END:VTIMEZONE
BEGIN:VTIMEZONE
TZID:UTC
BEGIN:STANDARD
DTSTART:20230613T141519
TZOFFSETFROM:+0000
TZOFFSETTO:+0000
END:STANDARD
END:VTIMEZONE
BEGIN:VEVENT
UID:1322
DTSTAMP:20240309T141519Z
DTSTART;TZID=Europe/Berlin:20240702T200000
DTEND;TZID=Europe/Berlin:20240702T210000
SUMMARY:Aufnahme neuer Mitglieder und vierteljährliche Presseschau
DESCRIPTION:Aufnahme neuer Mitglieder und vierteljährliche Presseschau | \
 nReferentin:\nNicole Lange\, Leiterin der Lokalredaktion Düsseldorf Rhein
 ische
IMAGE;VALUE=URI:https://www.duesseldorferjonges.de/media_thumbs/cms/5b63cca
 b-1507-447f-8599-617efc8c1a87/nicole-lange-rheinische-post-02.jpg/dffa553d
 b302cd07abd2322016c9747a.jpg?q=95&fit=max&crop=650%2C433%2C0%2C0&w=500&s=5
 f2330495485adc442ee0ee5dda598fb
LOCATION:Henkel Saal\, Ratinger Str. 25\, 40213 Düsseldorf
END:VEVENT
END:VCALENDAR