BEGIN:VCALENDAR
VERSION:2.0
PRODID:spatie/icalendar-generator
NAME:Düsseldorfer Jonges
X-WR-CALNAME:Düsseldorfer Jonges
BEGIN:VTIMEZONE
TZID:Europe/Berlin
BEGIN:STANDARD
DTSTART:20231029T030000
TZOFFSETFROM:+0200
TZOFFSETTO:+0100
END:STANDARD
BEGIN:DAYLIGHT
DTSTART:20240331T020000
TZOFFSETFROM:+0100
TZOFFSETTO:+0200
END:DAYLIGHT
BEGIN:STANDARD
DTSTART:20241027T030000
TZOFFSETFROM:+0200
TZOFFSETTO:+0100
END:STANDARD
END:VTIMEZONE
BEGIN:VTIMEZONE
TZID:UTC
BEGIN:STANDARD
DTSTART:20230613T141558
TZOFFSETFROM:+0000
TZOFFSETTO:+0000
END:STANDARD
END:VTIMEZONE
BEGIN:VEVENT
UID:1323
DTSTAMP:20240309T141558Z
DTSTART;TZID=Europe/Berlin:20240709T180000
DTEND;TZID=Europe/Berlin:20240709T190000
SUMMARY:Forum \"Bezahlbarer Wohnraum“
DESCRIPTION:Forum \"Bezahlbarer Wohnraum“ \n\nModerator: \nJoachim Umbach
 \, Initiator und Organisator von RhineCleanUp |\n\nTeilnehmer:innen:\n\n
 •	Matthias Herz\,\nSPD-Wohnungstausch in Düsseldorf\n\n•	Cornelia Zus
 chke\,\nBeigeordneten für Planen\, Bauen\, Mobilität und Grundstückswes
 en der Landeshauptstadt Düsseldorf\n\n•	Dr. Werner Fliescher\,\nVorstan
 d von Haus und Grund Düsseldorf und Umgebung\n\n•	Fabian Schrumpf\,\nst
 ellvertretender Fraktionsvorsitzender der CDU-Landtagsfraktion Nordrhein-W
 estfalen\n\n•	Hans-Jochem Witzke\,\nVorsitzender vom Mieterverein Düsse
 ldorf e.V.
IMAGE;VALUE=URI:https://www.duesseldorferjonges.de/media_thumbs/cms/ba0e802
 e-4eb6-4f13-a509-a973e0f6f7fb/bezahlbarer-wohnraum.jpg/0a04758d1703e30aaff
 3f9e3623fe0fd.jpg?q=95&fit=max&crop=1600%2C899%2C0%2C0&w=500&s=e13c0e2bd5e
 fae6ac602ee0bc7bf0e18
LOCATION:Henkel Saal\, Ratinger Str. 25\, 40213 Düsseldorf
END:VEVENT
END:VCALENDAR