BEGIN:VCALENDAR
VERSION:2.0
PRODID:spatie/icalendar-generator
NAME:Düsseldorfer Jonges
X-WR-CALNAME:Düsseldorfer Jonges
BEGIN:VTIMEZONE
TZID:Europe/Berlin
BEGIN:STANDARD
DTSTART:20231029T030000
TZOFFSETFROM:+0200
TZOFFSETTO:+0100
END:STANDARD
BEGIN:DAYLIGHT
DTSTART:20240331T020000
TZOFFSETFROM:+0100
TZOFFSETTO:+0200
END:DAYLIGHT
BEGIN:STANDARD
DTSTART:20241027T030000
TZOFFSETFROM:+0200
TZOFFSETTO:+0100
END:STANDARD
END:VTIMEZONE
BEGIN:VTIMEZONE
TZID:UTC
BEGIN:STANDARD
DTSTART:20230613T141647
TZOFFSETFROM:+0000
TZOFFSETTO:+0000
END:STANDARD
END:VTIMEZONE
BEGIN:VEVENT
UID:1325
DTSTAMP:20240309T141647Z
DTSTART;TZID=Europe/Berlin:20240723T200000
DTEND;TZID=Europe/Berlin:20240723T210000
SUMMARY:Empfang des Schützenkönigs und Impulsvortrag durch den neuen Sch
 ützenchef
DESCRIPTION:Empfang des Schützenkönigs \n\nImpulsvortrag durch den neuen 
 Schützenchef 	\nAndreas-Paul Stieber\, St. Sebastianus Schützenverein D
 üsseldorf 1316 e. V. und Mitglied des Rates der Landeshauptstadt Düsseld
 orf | \n\nLaudator:\nTom Bauer\, Geschäftsführender Gesellschafter riege
 r catering GmbH & Co. KG\nund Hoppeditz der Landeshauptstadt Düsseldorf
IMAGE;VALUE=URI:https://www.duesseldorferjonges.de/media_thumbs/cms/10a754c
 8-10bf-44e5-b720-d13b071407b3/stieber.jpg/a9c366e2eed071627a8dd69de0011267
 .jpg?q=95&fit=max&crop=780%2C439%2C0%2C0&w=500&s=204d6344784490007a490fd85
 b6d88c5
LOCATION:Henkel Saal\, Ratinger Str. 25\, 40213 Düsseldorf
END:VEVENT
END:VCALENDAR