BEGIN:VCALENDAR
VERSION:2.0
PRODID:spatie/icalendar-generator
NAME:Düsseldorfer Jonges
X-WR-CALNAME:Düsseldorfer Jonges
BEGIN:VTIMEZONE
TZID:Europe/Berlin
BEGIN:DAYLIGHT
DTSTART:20240331T020000
TZOFFSETFROM:+0100
TZOFFSETTO:+0200
END:DAYLIGHT
BEGIN:STANDARD
DTSTART:20241027T030000
TZOFFSETFROM:+0200
TZOFFSETTO:+0100
END:STANDARD
END:VTIMEZONE
BEGIN:VTIMEZONE
TZID:UTC
BEGIN:STANDARD
DTSTART:20230613T141744
TZOFFSETFROM:+0000
TZOFFSETTO:+0000
END:STANDARD
END:VTIMEZONE
BEGIN:VEVENT
UID:1327
DTSTAMP:20240309T141744Z
DTSTART;TZID=Europe/Berlin:20240806T200000
DTEND;TZID=Europe/Berlin:20240806T210000
SUMMARY:“Aktueller Stand der Kunstherztherapie- und Forschung”  | Impul
 svortrag: Förderverein der Volkshochschule Düsseldorf e.V.
DESCRIPTION:“Aktueller Stand der Kunstherztherapie- und Forschung” \nRe
 ferentin:\nDr. med. Dilek Gürsoy\, Fachärztin für Herzchirurgie und K
 unstherzspezialistin\n\nImpulsvortrag: Förderverein der Volkshochschule D
 üsseldorf e.V.\nReferent:\nFelix Markquardt und Jürgen Rehmann\, Vorsitz
 ende des Förderverein der Volkshochschule Düsseldorf e.V.
IMAGE;VALUE=URI:https://www.duesseldorferjonges.de/media_thumbs/cms/398d93f
 3-e185-440b-8e01-605a9448f6ff/dilek-guersoy.jpg/f7bcda84c650cf2504b53065e1
 c7d383.jpg?q=95&fit=max&crop=1600%2C1068%2C0%2C0&w=500&s=8c26590a315546b65
 af6ed6dd8eaba8a
LOCATION:Henkel Saal\, Ratinger Str. 25\, 40213 Düsseldorf
END:VEVENT
END:VCALENDAR