BEGIN:VCALENDAR
VERSION:2.0
PRODID:spatie/icalendar-generator
NAME:Düsseldorfer Jonges
X-WR-CALNAME:Düsseldorfer Jonges
BEGIN:VTIMEZONE
TZID:Europe/Berlin
BEGIN:DAYLIGHT
DTSTART:20240331T020000
TZOFFSETFROM:+0100
TZOFFSETTO:+0200
END:DAYLIGHT
BEGIN:STANDARD
DTSTART:20241027T030000
TZOFFSETFROM:+0200
TZOFFSETTO:+0100
END:STANDARD
END:VTIMEZONE
BEGIN:VTIMEZONE
TZID:UTC
BEGIN:STANDARD
DTSTART:20230613T141803
TZOFFSETFROM:+0000
TZOFFSETTO:+0000
END:STANDARD
END:VTIMEZONE
BEGIN:VEVENT
UID:1328
DTSTAMP:20240309T141803Z
DTSTART;TZID=Europe/Berlin:20240813T200000
DTEND;TZID=Europe/Berlin:20240813T210000
SUMMARY:75 jähriger Geburtstag der TG Rhingkadette
DESCRIPTION:75 jähriger Geburtstag der TG Rhingkadette
IMAGE;VALUE=URI:https://www.duesseldorferjonges.de/media_thumbs/cms/19c07f6
 7-73dd-4e81-832e-361ce79404c9/gedenktafel-rhingkadette.jpeg/416e8dfdb92376
 6000a26c23d38fa717.jpeg?q=95&fit=max&crop=720%2C577%2C0%2C0&w=500&s=14ab43
 fbbe8968cee41733eaa592301f
LOCATION:Henkel Saal\, Ratinger Str. 25\, 40213 Düsseldorf
END:VEVENT
END:VCALENDAR