BEGIN:VCALENDAR
VERSION:2.0
PRODID:spatie/icalendar-generator
NAME:Düsseldorfer Jonges
X-WR-CALNAME:Düsseldorfer Jonges
BEGIN:VTIMEZONE
TZID:Europe/Berlin
BEGIN:DAYLIGHT
DTSTART:20240331T020000
TZOFFSETFROM:+0100
TZOFFSETTO:+0200
END:DAYLIGHT
BEGIN:STANDARD
DTSTART:20241027T030000
TZOFFSETFROM:+0200
TZOFFSETTO:+0100
END:STANDARD
END:VTIMEZONE
BEGIN:VTIMEZONE
TZID:UTC
BEGIN:STANDARD
DTSTART:20230812T181307
TZOFFSETFROM:+0000
TZOFFSETTO:+0000
END:STANDARD
END:VTIMEZONE
BEGIN:VEVENT
UID:1332
DTSTAMP:20240508T181307Z
DTSTART;TZID=Europe/Berlin:20240910T200000
DTEND;TZID=Europe/Berlin:20240910T210000
SUMMARY:„behind the scenes“ – 3 Blicke hinter den Vorhang | Impulsvor
 trag: Die erfolgreiche Zentralbibliothek im KAP 1
DESCRIPTION:„behind the scenes“ – 3 Blicke hinter den Vorhang |\nRefe
 rent:\nKlaus Feldhaus\, technischer Geschäftsführer und Sprecher der Ges
 chäftsführung der SWD Städt. Wohnungsgesellschaft Düsseldorf mbH & Co.
  KG. |\n\nImpulsvortrag: Die erfolgreiche Zentralbibliothek im KAP 1 | \n\
 nReferent:\nStephan Schwering\,  Leiter der Zentralbibliothek im KAP 1
IMAGE;VALUE=URI:https://www.duesseldorferjonges.de/media_thumbs/cms/aa03b55
 b-52b7-4e4f-be44-9716975ff24c/3209840-100-dpi-rgb.jpg/ce3234da5a35cb487964
 6d9848e4b558.jpg?q=95&fit=max&crop=1050%2C700%2C0%2C0&w=500&s=50466dfa91a7
 973117735dce657a23fd
LOCATION:Henkel Saal\, Ratinger Str. 25\, 40213 Düsseldorf
END:VEVENT
END:VCALENDAR