BEGIN:VCALENDAR
VERSION:2.0
PRODID:spatie/icalendar-generator
NAME:Düsseldorfer Jonges
X-WR-CALNAME:Düsseldorfer Jonges
BEGIN:VTIMEZONE
TZID:Europe/Berlin
BEGIN:DAYLIGHT
DTSTART:20240331T020000
TZOFFSETFROM:+0100
TZOFFSETTO:+0200
END:DAYLIGHT
BEGIN:STANDARD
DTSTART:20241027T030000
TZOFFSETFROM:+0200
TZOFFSETTO:+0100
END:STANDARD
BEGIN:DAYLIGHT
DTSTART:20250330T020000
TZOFFSETFROM:+0100
TZOFFSETTO:+0200
END:DAYLIGHT
END:VTIMEZONE
BEGIN:VTIMEZONE
TZID:UTC
BEGIN:STANDARD
DTSTART:20230812T181509
TZOFFSETFROM:+0000
TZOFFSETTO:+0000
END:STANDARD
END:VTIMEZONE
BEGIN:VEVENT
UID:1335
DTSTAMP:20240508T181509Z
DTSTART;TZID=Europe/Berlin:20241001T200000
DTEND;TZID=Europe/Berlin:20241001T210000
SUMMARY:Aufnahme neuer Mitglieder | Impulsvortrag: „Im Herzen der Altstad
 t - unser neues Pflegeheim St. Anna...
DESCRIPTION:Aufnahme neuer Mitglieder | \n\nImpulsvortrag: \n\n„Im Herzen
  der Altstadt - unser neues Pflegeheim St. Anna: Chancen und Herausforderu
 ngen in der Umsetzung|\n\nReferentin:\n\nAnna Gockel-Gerber\, Finanzvorsta
 nd des Caritasverbandes Düsseldorf
IMAGE;VALUE=URI:https://www.duesseldorferjonges.de/media_thumbs/cms/63a71af
 a-3d05-4f78-ab66-03c4c3e7263e/r-2.jpeg/a97d0da42f528ccfc8d3d3c676ea7263.jp
 eg?q=95&fit=max&crop=640%2C265%2C0%2C0&w=500&s=76a348c88c64c2096afa749d242
 d29be
LOCATION:Henkel Saal\, Ratinger Str. 25\, 40213 Düsseldorf
END:VEVENT
END:VCALENDAR