BEGIN:VCALENDAR
VERSION:2.0
PRODID:spatie/icalendar-generator
NAME:Düsseldorfer Jonges
X-WR-CALNAME:Düsseldorfer Jonges
BEGIN:VTIMEZONE
TZID:Europe/Berlin
BEGIN:DAYLIGHT
DTSTART:20240331T020000
TZOFFSETFROM:+0100
TZOFFSETTO:+0200
END:DAYLIGHT
BEGIN:STANDARD
DTSTART:20241027T030000
TZOFFSETFROM:+0200
TZOFFSETTO:+0100
END:STANDARD
BEGIN:DAYLIGHT
DTSTART:20250330T020000
TZOFFSETFROM:+0100
TZOFFSETTO:+0200
END:DAYLIGHT
END:VTIMEZONE
BEGIN:VTIMEZONE
TZID:UTC
BEGIN:STANDARD
DTSTART:20230812T181610
TZOFFSETFROM:+0000
TZOFFSETTO:+0000
END:STANDARD
END:VTIMEZONE
BEGIN:VEVENT
UID:1337
DTSTAMP:20240508T181610Z
DTSTART;TZID=Europe/Berlin:20241015T200000
DTEND;TZID=Europe/Berlin:20241015T210000
SUMMARY:Förderpreis der Wissenschaft
DESCRIPTION:Förderpreis der Wissenschaft\n\nModerator:\nReinhold Hahlhege\
 , Vizebaas der Düsseldorfer Jonges
IMAGE;VALUE=URI:https://www.duesseldorferjonges.de/media_thumbs/cms/d682e4c
 3-679c-41f5-8d71-d990c8cce371/images.jpeg/30106a33c4303dc561bbc59a36d3106c
 .jpeg?q=95&fit=max&crop=290%2C174%2C0%2C0&w=500&s=7fc163408594cf4e4382ca9a
 337b903a
LOCATION:Brauhaus Goldener Ring (im großen Saal)\, Burgplatz 21-22\, 40213
  Düsseldorf
END:VEVENT
END:VCALENDAR