BEGIN:VCALENDAR
VERSION:2.0
PRODID:spatie/icalendar-generator
NAME:Düsseldorfer Jonges
X-WR-CALNAME:Düsseldorfer Jonges
BEGIN:VTIMEZONE
TZID:Europe/Berlin
BEGIN:DAYLIGHT
DTSTART:20240331T020000
TZOFFSETFROM:+0100
TZOFFSETTO:+0200
END:DAYLIGHT
BEGIN:STANDARD
DTSTART:20241027T030000
TZOFFSETFROM:+0200
TZOFFSETTO:+0100
END:STANDARD
BEGIN:DAYLIGHT
DTSTART:20250330T020000
TZOFFSETFROM:+0100
TZOFFSETTO:+0200
END:DAYLIGHT
END:VTIMEZONE
BEGIN:VTIMEZONE
TZID:UTC
BEGIN:STANDARD
DTSTART:20230812T181720
TZOFFSETFROM:+0000
TZOFFSETTO:+0000
END:STANDARD
END:VTIMEZONE
BEGIN:VEVENT
UID:1339
DTSTAMP:20240508T181720Z
DTSTART;TZID=Europe/Berlin:20241029T200000
DTEND;TZID=Europe/Berlin:20241029T210000
SUMMARY:Jonges Forum: \"Frauen in Führungspositionen“
DESCRIPTION:Jonges Forum: \"Frauen in Führungspositionen“\n\nModeratorin
 :\nTanja Kewes\, Chefreporterin Handelsblatt\n\nTeilnehmerinnen:\n- Claudi
 a Hillenherms\, Mitglied des Vorstandes der NRW.BANK\n- Christine Fleische
 r\, Präsidentin des Landgerichts Düsseldorf\n- Anna Gockel Gerber\, Vors
 tandsvorsitzende Caritasverband Düsseldorf e.V.\n- Birgitta Kubsch-von Ha
 rten\, Vorsitzende der Geschäftsführung der Agentur für Arbeit Düsseld
 orf
IMAGE;VALUE=URI:https://www.duesseldorferjonges.de/media_thumbs/cms/54fc055
 7-3158-43ec-8a84-e73810ed330f/oip-6.jpeg/c0fb450fd3ea169795644be469a9c545.
 jpeg?q=95&fit=max&crop=474%2C315%2C0%2C0&w=500&s=40eb457f0b70dc82dcfa5e72a
 c582fab
LOCATION:Görres-Gymnasium\, Königsallee 57\, 40212 Düsseldorf
END:VEVENT
END:VCALENDAR