BEGIN:VCALENDAR
VERSION:2.0
PRODID:spatie/icalendar-generator
NAME:Düsseldorfer Jonges
X-WR-CALNAME:Düsseldorfer Jonges
BEGIN:VTIMEZONE
TZID:Europe/Berlin
BEGIN:DAYLIGHT
DTSTART:20240331T020000
TZOFFSETFROM:+0100
TZOFFSETTO:+0200
END:DAYLIGHT
BEGIN:STANDARD
DTSTART:20241027T030000
TZOFFSETFROM:+0200
TZOFFSETTO:+0100
END:STANDARD
BEGIN:DAYLIGHT
DTSTART:20250330T020000
TZOFFSETFROM:+0100
TZOFFSETTO:+0200
END:DAYLIGHT
END:VTIMEZONE
BEGIN:VTIMEZONE
TZID:UTC
BEGIN:STANDARD
DTSTART:20230812T181801
TZOFFSETFROM:+0000
TZOFFSETTO:+0000
END:STANDARD
END:VTIMEZONE
BEGIN:VEVENT
UID:1340
DTSTAMP:20240508T181801Z
DTSTART;TZID=Europe/Berlin:20241105T200000
DTEND;TZID=Europe/Berlin:20241105T210000
SUMMARY:Elektromobilität – integraler Bestandteil der Mobilitäts- und E
 nergiewende | Impulsvortrag: Beratungsstelle Stop Mutilation Deutschland e
 .V.
DESCRIPTION:Elektromobilität – integraler Bestandteil der Mobilitäts- u
 nd Energiewende | \n\nReferent:\nKlaus Schüßler Leiter Elektromobilität
  der Stadtwerke AG Düsseldorf | \n\nImpulsvortrag: Beratungsstelle Stop M
 utilation Deutschland e.V. |\nReferentin:  \nJawahir Cumar\, GF Beratungss
 telle Stop Mutilation Deutschland e.V.
IMAGE;VALUE=URI:https://www.duesseldorferjonges.de/media_thumbs/cms/14359eb
 8-e148-4109-82df-5dbb6819b03b/jrolfes-dusman210610swd-0145ret5.jpg/9843cdd
 4a813658cb767a9c5cb6a3b78.jpg?q=95&fit=max&crop=2400%2C1601%2C0%2C0&w=500&
 s=bcf57b81667d6f16e05574e23b3ab47f
LOCATION:Brauhaus Goldener Ring (im großen Saal)\, Burgplatz 21-22\, 40213
  Düsseldorf
END:VEVENT
END:VCALENDAR