BEGIN:VCALENDAR
VERSION:2.0
PRODID:spatie/icalendar-generator
NAME:Düsseldorfer Jonges
X-WR-CALNAME:Düsseldorfer Jonges
BEGIN:VTIMEZONE
TZID:Europe/Berlin
BEGIN:DAYLIGHT
DTSTART:20240331T020000
TZOFFSETFROM:+0100
TZOFFSETTO:+0200
END:DAYLIGHT
BEGIN:STANDARD
DTSTART:20241027T030000
TZOFFSETFROM:+0200
TZOFFSETTO:+0100
END:STANDARD
BEGIN:DAYLIGHT
DTSTART:20250330T020000
TZOFFSETFROM:+0100
TZOFFSETTO:+0200
END:DAYLIGHT
END:VTIMEZONE
BEGIN:VTIMEZONE
TZID:UTC
BEGIN:STANDARD
DTSTART:20230812T181835
TZOFFSETFROM:+0000
TZOFFSETTO:+0000
END:STANDARD
END:VTIMEZONE
BEGIN:VEVENT
UID:1341
DTSTAMP:20240508T181835Z
DTSTART;TZID=Europe/Berlin:20241113T200000
DTEND;TZID=Europe/Berlin:20241113T210000
SUMMARY:Martinsfeier mit einem St. Martin und einer Kinderklasse Laternenwe
 ttbewerb
DESCRIPTION:Martinsfeier mit einem St. Martin und einer Kinderklasse Latern
 enwettbewerb
IMAGE;VALUE=URI:https://www.duesseldorferjonges.de/media_thumbs/cms/484da6f
 b-708f-4134-ac82-6b8b1940839a/401500762-7016425565081870-85219161307654822
 15-n.jpg/77a39cc083792eea9b874eed1dfbf961.jpg?q=95&fit=max&crop=2048%2C136
 5%2C0%2C0&w=500&s=f95e899079399661b7ef4d4d32921c5b
LOCATION:Görres-Gymnasium\, Königsallee 57\, 40212 Düsseldorf
END:VEVENT
END:VCALENDAR