BEGIN:VCALENDAR
VERSION:2.0
PRODID:spatie/icalendar-generator
NAME:Düsseldorfer Jonges
X-WR-CALNAME:Düsseldorfer Jonges
BEGIN:VTIMEZONE
TZID:Europe/Berlin
BEGIN:DAYLIGHT
DTSTART:20240331T020000
TZOFFSETFROM:+0100
TZOFFSETTO:+0200
END:DAYLIGHT
BEGIN:STANDARD
DTSTART:20241027T030000
TZOFFSETFROM:+0200
TZOFFSETTO:+0100
END:STANDARD
BEGIN:DAYLIGHT
DTSTART:20250330T020000
TZOFFSETFROM:+0100
TZOFFSETTO:+0200
END:DAYLIGHT
END:VTIMEZONE
BEGIN:VTIMEZONE
TZID:UTC
BEGIN:STANDARD
DTSTART:20230812T181934
TZOFFSETFROM:+0000
TZOFFSETTO:+0000
END:STANDARD
END:VTIMEZONE
BEGIN:VEVENT
UID:1343
DTSTAMP:20240508T181934Z
DTSTART;TZID=Europe/Berlin:20241126T200000
DTEND;TZID=Europe/Berlin:20241126T210000
SUMMARY:Jonges Couch: Bettina Böttinger
DESCRIPTION:Jonges Couch: Bettina Böttinger \n\nGast:\nBettina Böttinger\
 , deutsche Fernsehmoderatorin und Produzentin \n\nModeratorin: \nAndrea Gr
 euner-Kreplin\, Medienfachfrau\, Moderatorin\, Netzwerkerin
IMAGE;VALUE=URI:https://www.duesseldorferjonges.de/media_thumbs/cms/85d1908
 3-5f1d-4cd9-a3f9-1706eed62448/bettina-boettinger.jpg/0763f2bd7f6810f5ac4fc
 caf0dd30880.jpg?q=95&fit=max&crop=4134%2C2303%2C0%2C0&w=500&s=e5bbf831daa5
 d7e046200ad0d00f7036
LOCATION:Brauhaus Goldener Ring (im großen Saal)\, Burgplatz 21-22\, 40213
  Düsseldorf
END:VEVENT
END:VCALENDAR