BEGIN:VCALENDAR
VERSION:2.0
PRODID:spatie/icalendar-generator
NAME:Düsseldorfer Jonges
X-WR-CALNAME:Düsseldorfer Jonges
BEGIN:VTIMEZONE
TZID:Europe/Berlin
BEGIN:DAYLIGHT
DTSTART:20240331T020000
TZOFFSETFROM:+0100
TZOFFSETTO:+0200
END:DAYLIGHT
BEGIN:STANDARD
DTSTART:20241027T030000
TZOFFSETFROM:+0200
TZOFFSETTO:+0100
END:STANDARD
BEGIN:DAYLIGHT
DTSTART:20250330T020000
TZOFFSETFROM:+0100
TZOFFSETTO:+0200
END:DAYLIGHT
END:VTIMEZONE
BEGIN:VTIMEZONE
TZID:UTC
BEGIN:STANDARD
DTSTART:20230812T182054
TZOFFSETFROM:+0000
TZOFFSETTO:+0000
END:STANDARD
END:VTIMEZONE
BEGIN:VEVENT
UID:1345
DTSTAMP:20240508T182054Z
DTSTART;TZID=Europe/Berlin:20241210T200000
DTEND;TZID=Europe/Berlin:20241210T210000
SUMMARY:Politik der Mitte – Haltung und Handlung in stürmischen Zeiten
DESCRIPTION:Politik der Mitte – Haltung und Handlung in stürmischen Zeit
 en\n\nReferent:\nNathanael Liminski\, Minister für Bundes- und Europaange
 legenheiten\, Internationales sowie Medien des Landes Nordrhein-Westfalen 
 und Chef der Staatskanzlei
LOCATION:Brauhaus Goldener Ring (im großen Saal)\, Burgplatz 21-22\, 40213
  Düsseldorf
END:VEVENT
END:VCALENDAR