BEGIN:VCALENDAR
VERSION:2.0
PRODID:spatie/icalendar-generator
NAME:Düsseldorfer Jonges
X-WR-CALNAME:Düsseldorfer Jonges
BEGIN:VTIMEZONE
TZID:Europe/Berlin
BEGIN:DAYLIGHT
DTSTART:20240331T020000
TZOFFSETFROM:+0100
TZOFFSETTO:+0200
END:DAYLIGHT
BEGIN:STANDARD
DTSTART:20241027T030000
TZOFFSETFROM:+0200
TZOFFSETTO:+0100
END:STANDARD
BEGIN:DAYLIGHT
DTSTART:20250330T020000
TZOFFSETFROM:+0100
TZOFFSETTO:+0200
END:DAYLIGHT
END:VTIMEZONE
BEGIN:VTIMEZONE
TZID:UTC
BEGIN:STANDARD
DTSTART:20230812T182115
TZOFFSETFROM:+0000
TZOFFSETTO:+0000
END:STANDARD
END:VTIMEZONE
BEGIN:VEVENT
UID:1346
DTSTAMP:20240508T182115Z
DTSTART;TZID=Europe/Berlin:20241217T200000
DTEND;TZID=Europe/Berlin:20241217T210000
SUMMARY:Jonges Weihnachtsfeier - „Das Licht kommt in die Welt“
DESCRIPTION:„Das Licht kommt in die Welt“\nWeihnachtsfeier mit einem Ve
 rtreter der römisch katholischen Kirche Pfarrer |\n\nReferent: \nPfarrer 
 STEFAN PÖRTNER Vertreter der römisch katholischen Kirche
IMAGE;VALUE=URI:https://www.duesseldorferjonges.de/media_thumbs/cms/5a120a5
 d-60a3-4773-b4c0-b85d959cc8a7/jonges-wf1.jpg/70eb46c1e582ff409bfa1f34602b7
 98d.jpg?q=95&fit=max&crop=640%2C480%2C0%2C0&w=500&s=62a3d5c6eb0f076b4a41b4
 b589040d6b
LOCATION:Brauhaus Goldener Ring (im großen Saal)\, Burgplatz 21-22\, 40213
  Düsseldorf
END:VEVENT
END:VCALENDAR