BEGIN:VCALENDAR
VERSION:2.0
PRODID:spatie/icalendar-generator
NAME:Düsseldorfer Jonges
X-WR-CALNAME:Düsseldorfer Jonges
BEGIN:VTIMEZONE
TZID:Europe/Berlin
BEGIN:DAYLIGHT
DTSTART:20240331T020000
TZOFFSETFROM:+0100
TZOFFSETTO:+0200
END:DAYLIGHT
BEGIN:STANDARD
DTSTART:20241027T030000
TZOFFSETFROM:+0200
TZOFFSETTO:+0100
END:STANDARD
BEGIN:DAYLIGHT
DTSTART:20250330T020000
TZOFFSETFROM:+0100
TZOFFSETTO:+0200
END:DAYLIGHT
END:VTIMEZONE
BEGIN:VTIMEZONE
TZID:UTC
BEGIN:STANDARD
DTSTART:20230812T182143
TZOFFSETFROM:+0000
TZOFFSETTO:+0000
END:STANDARD
END:VTIMEZONE
BEGIN:VEVENT
UID:1347
DTSTAMP:20240508T182143Z
DTSTART;TZID=Europe/Berlin:20241224T200000
DTEND;TZID=Europe/Berlin:20241224T210000
SUMMARY:Heiligabend 2024
DESCRIPTION:Heiligabend 2024
IMAGE;VALUE=URI:https://www.duesseldorferjonges.de/media_thumbs/cms/5d4b4b5
 9-ec5e-485a-9350-b7c8c71cf9e9/oip-2.jpeg/19751176693c2503f1dc7cb1e3654d73.
 jpeg?q=95&fit=max&crop=474%2C301%2C0%2C0&w=500&s=9f54b6f8715cdff98969c0126
 f7cad9f
LOCATION:Henkel Saal\, Ratinger Str. 25\, 40213 Düsseldorf
END:VEVENT
END:VCALENDAR