BEGIN:VCALENDAR
VERSION:2.0
PRODID:spatie/icalendar-generator
NAME:Düsseldorfer Jonges
X-WR-CALNAME:Düsseldorfer Jonges
BEGIN:VTIMEZONE
TZID:Europe/Berlin
BEGIN:DAYLIGHT
DTSTART:20240331T020000
TZOFFSETFROM:+0100
TZOFFSETTO:+0200
END:DAYLIGHT
BEGIN:STANDARD
DTSTART:20241027T030000
TZOFFSETFROM:+0200
TZOFFSETTO:+0100
END:STANDARD
END:VTIMEZONE
BEGIN:VTIMEZONE
TZID:UTC
BEGIN:STANDARD
DTSTART:20230910T194441
TZOFFSETFROM:+0000
TZOFFSETTO:+0000
END:STANDARD
END:VTIMEZONE
BEGIN:VEVENT
UID:1349
DTSTAMP:20240606T194441Z
DTSTART;TZID=Europe/Berlin:20240730T200000
DTEND;TZID=Europe/Berlin:20240730T210000
SUMMARY:Vortrag: „Gesellschaftlicher Zusammenhalt in herausfordernden Zei
 ten“ | Impulsvortrag: KI Leadership Innovative Arbeitswelten lernen & ge
 stalten
DESCRIPTION:Hauptvortrag: „Gesellschaftlicher Zusammenhalt in herausforde
 rnden Zeiten“\, Ministerium für Kultur und Wissenschaft des Landes Nord
 rhein-Westfalen |\n\nReferentin: \nFrau GONCA TÜRKELI-DEHNERT\,  Staatsse
 kretärin im Ministerium für Kultur und Wissenschaft des Landes Nordrhein
 -Westfalen |\n\nImpulsvortrag: KI Leadership Innovative Arbeitswelten lern
 en & gestalten |\n\nReferent: \nMARTHA GIANNAKOUDI geschäftsf. Gesellscha
 fterin der Synnous Consulting GmbH
IMAGE;VALUE=URI:https://www.duesseldorferjonges.de/media_thumbs/cms/6f405c9
 f-8044-4a19-ac53-1c63506a3d6d/rso220704-01-1112n-1.jpg/dde3245f3e858f3f958
 1fc58763d9f52.jpg?q=95&fit=max&crop=1280%2C720%2C0%2C0&w=500&s=59e28544098
 0f761bf12484d4f320eed
LOCATION:Henkel Saal\, Ratinger Str. 25\, 40213 Düsseldorf
END:VEVENT
END:VCALENDAR