BEGIN:VCALENDAR
VERSION:2.0
PRODID:spatie/icalendar-generator
NAME:Düsseldorfer Jonges
X-WR-CALNAME:Düsseldorfer Jonges
BEGIN:VTIMEZONE
TZID:Europe/Berlin
BEGIN:DAYLIGHT
DTSTART:20240331T020000
TZOFFSETFROM:+0100
TZOFFSETTO:+0200
END:DAYLIGHT
BEGIN:STANDARD
DTSTART:20241027T030000
TZOFFSETFROM:+0200
TZOFFSETTO:+0100
END:STANDARD
BEGIN:DAYLIGHT
DTSTART:20250330T020000
TZOFFSETFROM:+0100
TZOFFSETTO:+0200
END:DAYLIGHT
END:VTIMEZONE
BEGIN:VTIMEZONE
TZID:UTC
BEGIN:STANDARD
DTSTART:20231026T194104
TZOFFSETFROM:+0000
TZOFFSETTO:+0000
END:STANDARD
END:VTIMEZONE
BEGIN:VEVENT
UID:1350
DTSTAMP:20240722T194104Z
DTSTART;TZID=Europe/Berlin:20241008T200000
DTEND;TZID=Europe/Berlin:20241008T210000
SUMMARY:Ministerium für Umwelt\, Naturschutz und Verkehr des Landes Nordrh
 ein-Westfalen
DESCRIPTION:Ministerium für Umwelt\, Naturschutz und Verkehr des Landes No
 rdrhein-Westfalen\n\nReferent: \nOliver Krischer\, Ministerium für Umwelt
 \, Naturschutz und Verkehr des Landes Nordrhein-Westfalen wird geleitet vo
 n .
IMAGE;VALUE=URI:https://www.duesseldorferjonges.de/media_thumbs/cms/467f2c4
 d-3130-4f88-8b99-94b57a13c0fe/portraet-minister-oliver-krischer-rechte-mun
 v-mark-hermenau.jpg/916be20949379b2eaac15fe23bd241b9.jpg?q=95&fit=max&crop
 =1280%2C720%2C0%2C0&w=500&s=1da355b109a9795684b69fb361a10047
LOCATION:Brauhaus Goldener Ring (im großen Saal)\, Burgplatz 21-22\, 40213
  Düsseldorf
END:VEVENT
END:VCALENDAR