BEGIN:VCALENDAR
VERSION:2.0
PRODID:spatie/icalendar-generator
NAME:Düsseldorfer Jonges
X-WR-CALNAME:Düsseldorfer Jonges
BEGIN:VTIMEZONE
TZID:Europe/Berlin
BEGIN:DAYLIGHT
DTSTART:20240331T020000
TZOFFSETFROM:+0100
TZOFFSETTO:+0200
END:DAYLIGHT
BEGIN:STANDARD
DTSTART:20241027T030000
TZOFFSETFROM:+0200
TZOFFSETTO:+0100
END:STANDARD
BEGIN:DAYLIGHT
DTSTART:20250330T020000
TZOFFSETFROM:+0100
TZOFFSETTO:+0200
END:DAYLIGHT
END:VTIMEZONE
BEGIN:VTIMEZONE
TZID:UTC
BEGIN:STANDARD
DTSTART:20231026T200559
TZOFFSETFROM:+0000
TZOFFSETTO:+0000
END:STANDARD
END:VTIMEZONE
BEGIN:VEVENT
UID:1351
DTSTAMP:20240722T200559Z
DTSTART;TZID=Europe/Berlin:20241022T200000
DTEND;TZID=Europe/Berlin:20241022T210000
SUMMARY:„Gegenspieler“ – ein Krimi für und eine Verbeugung vor Düss
 eldorf | Projekt: Missing Link
DESCRIPTION:„Gegenspieler“ – ein Krimi für und eine Verbeugung vor D
 üsseldorf |\n\nReferent:\nIngo Bott Rechtsanwalt und Düsseldorfer Krimin
 alautor |\n\nProjekt: Missing Link |\n\nReferent:\nMischa Kuball\, Profess
 or für Kunst im öffentlichen Raum an der Kunsthochschule für Medien\, K
 öln
IMAGE;VALUE=URI:https://www.duesseldorferjonges.de/media_thumbs/cms/2416752
 8-b3b2-444e-aa33-d8df24e7fe63/rechtsanwlte-plan-a-bott.jpg/5f1bfc4e8990fff
 78f1f9df12d64d065.jpg?q=95&fit=max&crop=1092%2C1186%2C0%2C0&w=500&s=c59ad4
 1a108e5ce39a6b1929160cc6df
LOCATION:Brauhaus Goldener Ring (im großen Saal)\, Burgplatz 21-22\, 40213
  Düsseldorf
END:VEVENT
END:VCALENDAR