BEGIN:VCALENDAR
VERSION:2.0
PRODID:spatie/icalendar-generator
NAME:Düsseldorfer Jonges
X-WR-CALNAME:Düsseldorfer Jonges
BEGIN:VTIMEZONE
TZID:Europe/Berlin
BEGIN:DAYLIGHT
DTSTART:20240331T020000
TZOFFSETFROM:+0100
TZOFFSETTO:+0200
END:DAYLIGHT
BEGIN:STANDARD
DTSTART:20241027T030000
TZOFFSETFROM:+0200
TZOFFSETTO:+0100
END:STANDARD
BEGIN:DAYLIGHT
DTSTART:20250330T020000
TZOFFSETFROM:+0100
TZOFFSETTO:+0200
END:DAYLIGHT
END:VTIMEZONE
BEGIN:VTIMEZONE
TZID:UTC
BEGIN:STANDARD
DTSTART:20231230T090213
TZOFFSETFROM:+0000
TZOFFSETTO:+0000
END:STANDARD
END:VTIMEZONE
BEGIN:VEVENT
UID:1353
DTSTAMP:20240925T090213Z
DTSTART;TZID=Europe/Berlin:20241008T200000
DTEND;TZID=Europe/Berlin:20241008T210000
SUMMARY:-- Heimatabende bis ende des Jahres im Brauhaus Goldener Ring --
DESCRIPTION:Heimatabende finden ab dem 08.10. - 30.12.2024 in der Brauerei 
 im Goldener Ring statt...\n\nAbweichende Veranstaltungsorte u.a. das Görr
 es-Gymnasium (Königsallee 57) entnehmen sie bitte den jeweiligen Details 
 des Heimatabend.
LOCATION:Brauhaus Goldener Ring (im großen Saal)\, Burgplatz 21-22\, 40213
  Düsseldorf
END:VEVENT
END:VCALENDAR