BEGIN:VCALENDAR
VERSION:2.0
PRODID:spatie/icalendar-generator
NAME:Düsseldorfer Jonges
X-WR-CALNAME:Düsseldorfer Jonges
BEGIN:VTIMEZONE
TZID:Europe/Berlin
BEGIN:STANDARD
DTSTART:20241027T030000
TZOFFSETFROM:+0200
TZOFFSETTO:+0100
END:STANDARD
BEGIN:DAYLIGHT
DTSTART:20250330T020000
TZOFFSETFROM:+0100
TZOFFSETTO:+0200
END:DAYLIGHT
END:VTIMEZONE
BEGIN:VTIMEZONE
TZID:UTC
BEGIN:STANDARD
DTSTART:20240224T194911
TZOFFSETFROM:+0000
TZOFFSETTO:+0000
END:STANDARD
END:VTIMEZONE
BEGIN:VEVENT
UID:1356
DTSTAMP:20241120T194911Z
DTSTART;TZID=Europe/Berlin:20250114T200000
DTEND;TZID=Europe/Berlin:20250114T210000
SUMMARY:Aquazoo Löbbecke Museum | Impulsvortrag: Die Zukunft des deutschen
  Fußballs: Talentförderung und Trainingsphilosophie Deutschland im Fokus
  |
DESCRIPTION:Aquazoo Löbbecke Museum\n\nReferent:\nHerr Dr. Jochen Reiter\,
  Direktor des Aquazoo Löbbecke Museum |\n\nImpulsvortrag:  \nDie Zukunft 
 des deutschen Fußballs: Talentförderung und Trainingsphilosophie Deutsch
 land im Fokus |\n\nReferent:\nBenjamin Skalnik\, DFB-Stützpunktkoordinato
 r für das gesamte Verbandsgebiet Niederrhein
IMAGE;VALUE=URI:https://www.duesseldorferjonges.de/media_thumbs/cms/7b8459d
 0-88fc-4843-a9ff-4a789323974a/jochen-reiter-aquazoo.jpg/7e451f70da54c0343c
 3469e155a870f6.jpg?q=95&fit=max&crop=1961%2C1250%2C0%2C0&w=500&s=cc90c0fde
 bc6a8e98061ca1f035e7390
LOCATION:Brauhaus Goldener Ring (im großen Saal)\, Burgplatz 21-22\, 40213
  Düsseldorf
END:VEVENT
END:VCALENDAR