BEGIN:VCALENDAR
VERSION:2.0
PRODID:spatie/icalendar-generator
NAME:Düsseldorfer Jonges
X-WR-CALNAME:Düsseldorfer Jonges
BEGIN:VTIMEZONE
TZID:Europe/Berlin
BEGIN:STANDARD
DTSTART:20241027T030000
TZOFFSETFROM:+0200
TZOFFSETTO:+0100
END:STANDARD
BEGIN:DAYLIGHT
DTSTART:20250330T020000
TZOFFSETFROM:+0100
TZOFFSETTO:+0200
END:DAYLIGHT
END:VTIMEZONE
BEGIN:VTIMEZONE
TZID:UTC
BEGIN:STANDARD
DTSTART:20240224T195158
TZOFFSETFROM:+0000
TZOFFSETTO:+0000
END:STANDARD
END:VTIMEZONE
BEGIN:VEVENT
UID:1359
DTSTAMP:20241120T195158Z
DTSTART;TZID=Europe/Berlin:20250128T200000
DTEND;TZID=Europe/Berlin:20250128T210000
SUMMARY:Johanneskirche auf Zukunftskurs- Revitalisierung tut Not | „Düss
 eldorf Schwarz-Weiß“ (Düsseldorfer Fotoschätze aus den 1950er und 196
 0er Jahren)
DESCRIPTION:Johanneskirche auf Zukunftskurs- Revitalisierung tut Not | \nRe
 ferent: \nHeinrich Fucks\, Superintendent Pfarrer |\n\n„Düsseldorf Schw
 arz-Weiß“ (Düsseldorfer Fotoschätze aus den 1950er und 1960er Jahren)
  |\nReferent: \nDr. Ulrich Brzosa\, Referent des Vorstandes Caritasverband
  Düsseldorf
IMAGE;VALUE=URI:https://www.duesseldorferjonges.de/media_thumbs/cms/4f9c6e4
 5-a273-4ca7-9b62-82d0cebfacb3/fucks-06-xm0a9373.jpg/f64d395b209e4809c17835
 f55dec86a9.jpg?q=95&fit=max&crop=3362%2C3362%2C0%2C0&w=500&s=9b13e58cbe8bc
 f22365c559b2558da1a
LOCATION:Henkel Saal\, Ratinger Str. 25\, 40213 Düsseldorf
END:VEVENT
END:VCALENDAR